BEGIN:VCALENDAR
VERSION:2.0
PRODID:-//TYPO3/NONSGML Calendarize//EN
BEGIN:VEVENT
UID:calendarize-kobudo-20260530
DTSTAMP:20260422T162347Z
DTSTART:20260530T110000Z
DTEND:20260530T150000Z
SUMMARY:Kobudo
DESCRIPTION:Kinder: 13 - 14 Uhr\nErwachsene: 14:15 ‑ 17 Uhr
X-ALT-DESC;FMTTYPE=text/html:<p>Kinder: 13 - 14 Uhr</p>\n<p>Erwachsene:&nb
 sp\;14:15&nbsp\;‑&nbsp\;17&nbsp\;Uhr</p>
LOCATION:
END:VEVENT
END:VCALENDAR
